BEGIN:VCALENDAR
VERSION:2.0
PRODID:-//Alfred Nobels Björkborn - ECPv6.15.20//NONSGML v1.0//EN
CALSCALE:GREGORIAN
METHOD:PUBLISH
X-WR-CALNAME:Alfred Nobels Björkborn
X-ORIGINAL-URL:https://nobelkarlskoga.se
X-WR-CALDESC:Händelser för Alfred Nobels Björkborn
REFRESH-INTERVAL;VALUE=DURATION:PT1H
X-Robots-Tag:noindex
X-PUBLISHED-TTL:PT1H
BEGIN:VTIMEZONE
TZID:Europe/Stockholm
BEGIN:DAYLIGHT
TZOFFSETFROM:+0100
TZOFFSETTO:+0200
TZNAME:CEST
DTSTART:20250330T010000
END:DAYLIGHT
BEGIN:STANDARD
TZOFFSETFROM:+0200
TZOFFSETTO:+0100
TZNAME:CET
DTSTART:20251026T010000
END:STANDARD
BEGIN:DAYLIGHT
TZOFFSETFROM:+0100
TZOFFSETTO:+0200
TZNAME:CEST
DTSTART:20260329T010000
END:DAYLIGHT
BEGIN:STANDARD
TZOFFSETFROM:+0200
TZOFFSETTO:+0100
TZNAME:CET
DTSTART:20261025T010000
END:STANDARD
BEGIN:DAYLIGHT
TZOFFSETFROM:+0100
TZOFFSETTO:+0200
TZNAME:CEST
DTSTART:20270328T010000
END:DAYLIGHT
BEGIN:STANDARD
TZOFFSETFROM:+0200
TZOFFSETTO:+0100
TZNAME:CET
DTSTART:20271031T010000
END:STANDARD
END:VTIMEZONE
BEGIN:VEVENT
DTSTART;TZID=Europe/Stockholm:20260425T120000
DTEND;TZID=Europe/Stockholm:20260425T160000
DTSTAMP:20260422T122030
CREATED:20260218T133059Z
LAST-MODIFIED:20260327T141711Z
UID:10000169-1777118400-1777132800@nobelkarlskoga.se
SUMMARY:Öppet i Nobelmuseet
DESCRIPTION:Som ni har väntat på att Nobelmuseet i Karlskoga ska återvända från sin vintervila! Nu är det äntligen dags att smyga igång med lite lördagsöppet. Inför sommarsäsongen har vi öppet för besök och visning i Björkborns herrgård och Alfred Nobels laboratorium under utvalda lördagar.\n\nDetaljer kan ses nedan\, varmt välkomna!\n\n\nÖppettider: 12-16\, lördagarna 28/2\, 14/3\, 28/3\, 11/4\, 25/4\, 9/5 samt 23/5Guidad tur kl. 14.30.Pris: 150 kr/personBarn under 10 år går gratis.\n\nCafé Nobel är inte öppet.
URL:https://nobelkarlskoga.se/event/oppet-i-nobelmuseet-5/
LOCATION:Nobelmuseet i Karlskoga\, Björkbornsvägen 10\, Karlskoga\, Örebro län\, Sweden
ATTACH;FMTTYPE=image/png:https://nobelkarlskoga.se/wp-content/uploads/Kopia-av-Sommar-2025.png
ORGANIZER;CN="Alfred Nobels Bj%C3%B6rkborn":MAILTO:info@nobelkarlskoga.se
END:VEVENT
BEGIN:VEVENT
DTSTART;TZID=Europe/Stockholm:20260430T160000
DTEND;TZID=Europe/Stockholm:20260430T200000
DTSTAMP:20260422T122030
CREATED:20260422T074539Z
LAST-MODIFIED:20260422T074539Z
UID:10000176-1777564800-1777579200@nobelkarlskoga.se
SUMMARY:Valborgsfirande vid Björkborns herrgård
DESCRIPTION:Varmt välkomna på ett traditionsenligt valborgsfirande vid Björkborns herrgård. Med körsång\, vårtal och fika eller korv från Café Nobel firar vi tillsammans att våren äntligen anlänt!\nProgram:16:00 Café Nobel öppnar17:00 Öppet hus i Björkborns herrgård18:00 Programmet startar Körsång av Kulturskolans körer Vårtal av Dan-Åke Widenberg Ungdomens vårtalca. 18.35 Brasan tänds\nEvenemanget är ett samarbete mellan Alfred Nobels Björkborn\, Karlskoga kommuns kulturskola\, Rädda Barnen och Nobelvännerna.
URL:https://nobelkarlskoga.se/event/valborgsfirande-vid-bjorkborns-herrgard/
LOCATION:Nobelmuseet i Karlskoga\, Björkbornsvägen 10\, Karlskoga\, Örebro län\, Sweden
ATTACH;FMTTYPE=image/png:https://nobelkarlskoga.se/wp-content/uploads/5.png
END:VEVENT
BEGIN:VEVENT
DTSTART;TZID=Europe/Stockholm:20260509T120000
DTEND;TZID=Europe/Stockholm:20260509T160000
DTSTAMP:20260422T122030
CREATED:20260218T133219Z
LAST-MODIFIED:20260327T141729Z
UID:10000170-1778328000-1778342400@nobelkarlskoga.se
SUMMARY:Öppet i Nobelmuseet
DESCRIPTION:Som ni har väntat på att Nobelmuseet i Karlskoga ska återvända från sin vintervila! Nu är det äntligen dags att smyga igång med lite lördagsöppet. Inför sommarsäsongen har vi öppet för besök och visning i Björkborns herrgård och Alfred Nobels laboratorium under utvalda lördagar.\n\nDetaljer kan ses nedan\, varmt välkomna!\n\n\nÖppettider: 12-16\, lördagarna 28/2\, 14/3\, 28/3\, 11/4\, 25/4\, 9/5 samt 23/5Guidad tur kl. 14.30.Pris: 150 kr/personBarn under 10 år går gratis.\n\nCafé Nobel är inte öppet.
URL:https://nobelkarlskoga.se/event/oppet-i-nobelmuseet-6/
LOCATION:Nobelmuseet i Karlskoga\, Björkbornsvägen 10\, Karlskoga\, Örebro län\, Sweden
ATTACH;FMTTYPE=image/png:https://nobelkarlskoga.se/wp-content/uploads/Kopia-av-Sommar-2025.png
ORGANIZER;CN="Alfred Nobels Bj%C3%B6rkborn":MAILTO:info@nobelkarlskoga.se
END:VEVENT
BEGIN:VEVENT
DTSTART;TZID=Europe/Stockholm:20260523T120000
DTEND;TZID=Europe/Stockholm:20260523T160000
DTSTAMP:20260422T122030
CREATED:20260218T133315Z
LAST-MODIFIED:20260327T141746Z
UID:10000171-1779537600-1779552000@nobelkarlskoga.se
SUMMARY:Öppet i Nobelmuseet
DESCRIPTION:Som ni har väntat på att Nobelmuseet i Karlskoga ska återvända från sin vintervila! Nu är det äntligen dags att smyga igång med lite lördagsöppet. Inför sommarsäsongen har vi öppet för besök och visning i Björkborns herrgård och Alfred Nobels laboratorium under utvalda lördagar.\n\nDetaljer kan ses nedan\, varmt välkomna!\n\n\nÖppettider: 12-16\, lördagarna 28/2\, 14/3\, 28/3\, 11/4\, 25/4\, 9/5 samt 23/5Guidad tur kl. 14.30.Pris: 150 kr/personBarn under 10 år går gratis.\n\nCafé Nobel är inte öppet.
URL:https://nobelkarlskoga.se/event/oppet-i-nobelmuseet-7/
LOCATION:Nobelmuseet i Karlskoga\, Björkbornsvägen 10\, Karlskoga\, Örebro län\, Sweden
ATTACH;FMTTYPE=image/png:https://nobelkarlskoga.se/wp-content/uploads/Kopia-av-Sommar-2025.png
ORGANIZER;CN="Alfred Nobels Bj%C3%B6rkborn":MAILTO:info@nobelkarlskoga.se
END:VEVENT
END:VCALENDAR